BEGIN:VCALENDAR
VERSION:2.0
PRODID:-//eventon.com NONSGML v1.0//EN
CALSCALE:GREGORIAN
METHOD:PUBLISH
BEGIN:VEVENT
UID:69e74c530b4fe
DTSTAMP:20260421T100715Z
DTSTART:20260621T140000Z
DTEND:20260621T153000Z
LOCATION:Bethany Community Church 15720 Riding Stable Road
SUMMARY:Worship Service
DESCRIPTION:We worship as a church family every Sunday at 10:00 a.m. &nbsp;
 Our services feature contemporary music\,  &nbsp;casual dress\,  relevant p
 reaching\,  children’s programming for all ages\,  ASL interpretation and
  visual worship music\,  &nbsp;CART\,  &nbsp;and the love of Christ. A typi
 cal service will last about 60-90 minutes long. &nbsp;We sing contemporary 
 music[..]\nhttps://bethanylaurelmd.online.church/
URL:https://bethanylaurelmd.online.church/
END:VEVENT
END:VCALENDAR