BEGIN:VCALENDAR
VERSION:2.0
PRODID:-//eventon.com NONSGML v1.0//EN
CALSCALE:GREGORIAN
METHOD:PUBLISH
BEGIN:VEVENT
UID:69e777585bb78
DTSTAMP:20260421T131048Z
DTSTART:20260707T210000Z
DTEND:20260707T213000Z
LOCATION:https://us02web.zoom.us/j/87341055886
SUMMARY:Zoom Prayer Call
DESCRIPTION:Join us as we gather for some brief fellowship and a time of pr
 ayer.  Each week we take time to reconnect and prayer over one another. 
   There is no expectation that participation means you have to lead in pr
 ayer. We would simply love to see your face and pray for\,  and with\, [..]
 \nhttps://us02web.zoom.us/j/87341055886
URL:https://us02web.zoom.us/j/87341055886
END:VEVENT
END:VCALENDAR